BEGIN:VCALENDAR
VERSION:2.0
PRODID:-//Das Rosa Haus - ECPv6.15.20//NONSGML v1.0//EN
CALSCALE:GREGORIAN
METHOD:PUBLISH
X-WR-CALNAME:Das Rosa Haus
X-ORIGINAL-URL:https://dasrosahaus.com
X-WR-CALDESC:Veranstaltungen für Das Rosa Haus
REFRESH-INTERVAL;VALUE=DURATION:PT1H
X-Robots-Tag:noindex
X-PUBLISHED-TTL:PT1H
BEGIN:VTIMEZONE
TZID:Europe/Paris
BEGIN:DAYLIGHT
TZOFFSETFROM:+0100
TZOFFSETTO:+0200
TZNAME:CEST
DTSTART:20250330T010000
END:DAYLIGHT
BEGIN:STANDARD
TZOFFSETFROM:+0200
TZOFFSETTO:+0100
TZNAME:CET
DTSTART:20251026T010000
END:STANDARD
BEGIN:DAYLIGHT
TZOFFSETFROM:+0100
TZOFFSETTO:+0200
TZNAME:CEST
DTSTART:20260329T010000
END:DAYLIGHT
BEGIN:STANDARD
TZOFFSETFROM:+0200
TZOFFSETTO:+0100
TZNAME:CET
DTSTART:20261025T010000
END:STANDARD
BEGIN:DAYLIGHT
TZOFFSETFROM:+0100
TZOFFSETTO:+0200
TZNAME:CEST
DTSTART:20270328T010000
END:DAYLIGHT
BEGIN:STANDARD
TZOFFSETFROM:+0200
TZOFFSETTO:+0100
TZNAME:CET
DTSTART:20271031T010000
END:STANDARD
END:VTIMEZONE
BEGIN:VEVENT
DTSTART;TZID=Europe/Paris:20260416T161500
DTEND;TZID=Europe/Paris:20260416T174500
DTSTAMP:20260419T161300
CREATED:20251223T140111Z
LAST-MODIFIED:20260111T175405Z
UID:30000575-1776356100-1776361500@dasrosahaus.com
SUMMARY:Singen
DESCRIPTION:Singen\nDie Stimme verbindet uns mit uns selbst und der Welt. Im Singen lösen sich Blockaden\, Glückshormone werden freigesetzt und innere Stärke entsteht. Die Stimmarbeit fördert Entspannung\, Selbstvertrauen und Verbundenheit. Sie öffnet eine Brücke zum Unterbewusstsein und lädt ein\, auch die eigene innere Stimme zu entdecken und zu entfalten. \nTermine: Jeden Donnerstag von 16.15 bis 17.45 Uhr \nPreis: 40 Euro monatlich
URL:https://dasrosahaus.com/termin/singen/2026-04-16/
CATEGORIES:Kreativität
ORGANIZER;CN="Anna Zucker":MAILTO:info@gesangsschule-zucker.de
END:VEVENT
BEGIN:VEVENT
DTSTART;TZID=Europe/Paris:20260409T161500
DTEND;TZID=Europe/Paris:20260409T174500
DTSTAMP:20260419T161300
CREATED:20251223T140111Z
LAST-MODIFIED:20260111T175405Z
UID:30002894-1775751300-1775756700@dasrosahaus.com
SUMMARY:Singen
DESCRIPTION:Singen\nDie Stimme verbindet uns mit uns selbst und der Welt. Im Singen lösen sich Blockaden\, Glückshormone werden freigesetzt und innere Stärke entsteht. Die Stimmarbeit fördert Entspannung\, Selbstvertrauen und Verbundenheit. Sie öffnet eine Brücke zum Unterbewusstsein und lädt ein\, auch die eigene innere Stimme zu entdecken und zu entfalten. \nTermine: Jeden Donnerstag von 16.15 bis 17.45 Uhr \nPreis: 40 Euro monatlich
URL:https://dasrosahaus.com/termin/singen/2026-04-09/
CATEGORIES:Kreativität
ORGANIZER;CN="Anna Zucker":MAILTO:info@gesangsschule-zucker.de
END:VEVENT
BEGIN:VEVENT
DTSTART;TZID=Europe/Paris:20260402T161500
DTEND;TZID=Europe/Paris:20260402T174500
DTSTAMP:20260419T161300
CREATED:20251223T140111Z
LAST-MODIFIED:20260111T175405Z
UID:30002893-1775146500-1775151900@dasrosahaus.com
SUMMARY:Singen
DESCRIPTION:Singen\nDie Stimme verbindet uns mit uns selbst und der Welt. Im Singen lösen sich Blockaden\, Glückshormone werden freigesetzt und innere Stärke entsteht. Die Stimmarbeit fördert Entspannung\, Selbstvertrauen und Verbundenheit. Sie öffnet eine Brücke zum Unterbewusstsein und lädt ein\, auch die eigene innere Stimme zu entdecken und zu entfalten. \nTermine: Jeden Donnerstag von 16.15 bis 17.45 Uhr \nPreis: 40 Euro monatlich
URL:https://dasrosahaus.com/termin/singen/2026-04-02/
CATEGORIES:Kreativität
ORGANIZER;CN="Anna Zucker":MAILTO:info@gesangsschule-zucker.de
END:VEVENT
BEGIN:VEVENT
DTSTART;TZID=Europe/Paris:20260326T161500
DTEND;TZID=Europe/Paris:20260326T174500
DTSTAMP:20260419T161300
CREATED:20251223T140111Z
LAST-MODIFIED:20260111T175405Z
UID:30002892-1774541700-1774547100@dasrosahaus.com
SUMMARY:Singen
DESCRIPTION:Singen\nDie Stimme verbindet uns mit uns selbst und der Welt. Im Singen lösen sich Blockaden\, Glückshormone werden freigesetzt und innere Stärke entsteht. Die Stimmarbeit fördert Entspannung\, Selbstvertrauen und Verbundenheit. Sie öffnet eine Brücke zum Unterbewusstsein und lädt ein\, auch die eigene innere Stimme zu entdecken und zu entfalten. \nTermine: Jeden Donnerstag von 16.15 bis 17.45 Uhr \nPreis: 40 Euro monatlich
URL:https://dasrosahaus.com/termin/singen/2026-03-26/
CATEGORIES:Kreativität
ORGANIZER;CN="Anna Zucker":MAILTO:info@gesangsschule-zucker.de
END:VEVENT
BEGIN:VEVENT
DTSTART;TZID=Europe/Paris:20260319T161500
DTEND;TZID=Europe/Paris:20260319T174500
DTSTAMP:20260419T161300
CREATED:20251223T140111Z
LAST-MODIFIED:20260111T175405Z
UID:30000571-1773936900-1773942300@dasrosahaus.com
SUMMARY:Singen
DESCRIPTION:Singen\nDie Stimme verbindet uns mit uns selbst und der Welt. Im Singen lösen sich Blockaden\, Glückshormone werden freigesetzt und innere Stärke entsteht. Die Stimmarbeit fördert Entspannung\, Selbstvertrauen und Verbundenheit. Sie öffnet eine Brücke zum Unterbewusstsein und lädt ein\, auch die eigene innere Stimme zu entdecken und zu entfalten. \nTermine: Jeden Donnerstag von 16.15 bis 17.45 Uhr \nPreis: 40 Euro monatlich
URL:https://dasrosahaus.com/termin/singen/2026-03-19/
CATEGORIES:Kreativität
ORGANIZER;CN="Anna Zucker":MAILTO:info@gesangsschule-zucker.de
END:VEVENT
BEGIN:VEVENT
DTSTART;TZID=Europe/Paris:20260312T161500
DTEND;TZID=Europe/Paris:20260312T174500
DTSTAMP:20260419T161300
CREATED:20251223T140111Z
LAST-MODIFIED:20260111T175405Z
UID:30002891-1773332100-1773337500@dasrosahaus.com
SUMMARY:Singen
DESCRIPTION:Singen\nDie Stimme verbindet uns mit uns selbst und der Welt. Im Singen lösen sich Blockaden\, Glückshormone werden freigesetzt und innere Stärke entsteht. Die Stimmarbeit fördert Entspannung\, Selbstvertrauen und Verbundenheit. Sie öffnet eine Brücke zum Unterbewusstsein und lädt ein\, auch die eigene innere Stimme zu entdecken und zu entfalten. \nTermine: Jeden Donnerstag von 16.15 bis 17.45 Uhr \nPreis: 40 Euro monatlich
URL:https://dasrosahaus.com/termin/singen/2026-03-12/
CATEGORIES:Kreativität
ORGANIZER;CN="Anna Zucker":MAILTO:info@gesangsschule-zucker.de
END:VEVENT
BEGIN:VEVENT
DTSTART;TZID=Europe/Paris:20260305T161500
DTEND;TZID=Europe/Paris:20260305T174500
DTSTAMP:20260419T161300
CREATED:20251223T140111Z
LAST-MODIFIED:20260111T175405Z
UID:30002890-1772727300-1772732700@dasrosahaus.com
SUMMARY:Singen
DESCRIPTION:Singen\nDie Stimme verbindet uns mit uns selbst und der Welt. Im Singen lösen sich Blockaden\, Glückshormone werden freigesetzt und innere Stärke entsteht. Die Stimmarbeit fördert Entspannung\, Selbstvertrauen und Verbundenheit. Sie öffnet eine Brücke zum Unterbewusstsein und lädt ein\, auch die eigene innere Stimme zu entdecken und zu entfalten. \nTermine: Jeden Donnerstag von 16.15 bis 17.45 Uhr \nPreis: 40 Euro monatlich
URL:https://dasrosahaus.com/termin/singen/2026-03-05/
CATEGORIES:Kreativität
ORGANIZER;CN="Anna Zucker":MAILTO:info@gesangsschule-zucker.de
END:VEVENT
BEGIN:VEVENT
DTSTART;TZID=Europe/Paris:20260226T161500
DTEND;TZID=Europe/Paris:20260226T174500
DTSTAMP:20260419T161300
CREATED:20251223T140111Z
LAST-MODIFIED:20260111T175405Z
UID:30002889-1772122500-1772127900@dasrosahaus.com
SUMMARY:Singen
DESCRIPTION:Singen\nDie Stimme verbindet uns mit uns selbst und der Welt. Im Singen lösen sich Blockaden\, Glückshormone werden freigesetzt und innere Stärke entsteht. Die Stimmarbeit fördert Entspannung\, Selbstvertrauen und Verbundenheit. Sie öffnet eine Brücke zum Unterbewusstsein und lädt ein\, auch die eigene innere Stimme zu entdecken und zu entfalten. \nTermine: Jeden Donnerstag von 16.15 bis 17.45 Uhr \nPreis: 40 Euro monatlich
URL:https://dasrosahaus.com/termin/singen/2026-02-26/
CATEGORIES:Kreativität
ORGANIZER;CN="Anna Zucker":MAILTO:info@gesangsschule-zucker.de
END:VEVENT
BEGIN:VEVENT
DTSTART;TZID=Europe/Paris:20260219T161500
DTEND;TZID=Europe/Paris:20260219T174500
DTSTAMP:20260419T161300
CREATED:20251223T140111Z
LAST-MODIFIED:20260111T175405Z
UID:30003088-1771517700-1771523100@dasrosahaus.com
SUMMARY:Singen
DESCRIPTION:Singen\nDie Stimme verbindet uns mit uns selbst und der Welt. Im Singen lösen sich Blockaden\, Glückshormone werden freigesetzt und innere Stärke entsteht. Die Stimmarbeit fördert Entspannung\, Selbstvertrauen und Verbundenheit. Sie öffnet eine Brücke zum Unterbewusstsein und lädt ein\, auch die eigene innere Stimme zu entdecken und zu entfalten. \nTermine: Jeden Donnerstag von 16.15 bis 17.45 Uhr \nPreis: 40 Euro monatlich
URL:https://dasrosahaus.com/termin/singen/2026-02-19/
CATEGORIES:Kreativität
ORGANIZER;CN="Anna Zucker":MAILTO:info@gesangsschule-zucker.de
END:VEVENT
BEGIN:VEVENT
DTSTART;TZID=Europe/Paris:20260212T161500
DTEND;TZID=Europe/Paris:20260212T174500
DTSTAMP:20260419T161300
CREATED:20251223T140111Z
LAST-MODIFIED:20260111T175405Z
UID:30003087-1770912900-1770918300@dasrosahaus.com
SUMMARY:Singen
DESCRIPTION:Singen\nDie Stimme verbindet uns mit uns selbst und der Welt. Im Singen lösen sich Blockaden\, Glückshormone werden freigesetzt und innere Stärke entsteht. Die Stimmarbeit fördert Entspannung\, Selbstvertrauen und Verbundenheit. Sie öffnet eine Brücke zum Unterbewusstsein und lädt ein\, auch die eigene innere Stimme zu entdecken und zu entfalten. \nTermine: Jeden Donnerstag von 16.15 bis 17.45 Uhr \nPreis: 40 Euro monatlich
URL:https://dasrosahaus.com/termin/singen/2026-02-12/
CATEGORIES:Kreativität
ORGANIZER;CN="Anna Zucker":MAILTO:info@gesangsschule-zucker.de
END:VEVENT
BEGIN:VEVENT
DTSTART;TZID=Europe/Paris:20260205T161500
DTEND;TZID=Europe/Paris:20260205T174500
DTSTAMP:20260419T161300
CREATED:20251223T140111Z
LAST-MODIFIED:20260111T175405Z
UID:30003086-1770308100-1770313500@dasrosahaus.com
SUMMARY:Singen
DESCRIPTION:Singen\nDie Stimme verbindet uns mit uns selbst und der Welt. Im Singen lösen sich Blockaden\, Glückshormone werden freigesetzt und innere Stärke entsteht. Die Stimmarbeit fördert Entspannung\, Selbstvertrauen und Verbundenheit. Sie öffnet eine Brücke zum Unterbewusstsein und lädt ein\, auch die eigene innere Stimme zu entdecken und zu entfalten. \nTermine: Jeden Donnerstag von 16.15 bis 17.45 Uhr \nPreis: 40 Euro monatlich
URL:https://dasrosahaus.com/termin/singen/2026-02-05/
CATEGORIES:Kreativität
ORGANIZER;CN="Anna Zucker":MAILTO:info@gesangsschule-zucker.de
END:VEVENT
BEGIN:VEVENT
DTSTART;TZID=Europe/Paris:20260129T161500
DTEND;TZID=Europe/Paris:20260129T174500
DTSTAMP:20260419T161300
CREATED:20251223T140111Z
LAST-MODIFIED:20260111T175405Z
UID:30003085-1769703300-1769708700@dasrosahaus.com
SUMMARY:Singen
DESCRIPTION:Singen\nDie Stimme verbindet uns mit uns selbst und der Welt. Im Singen lösen sich Blockaden\, Glückshormone werden freigesetzt und innere Stärke entsteht. Die Stimmarbeit fördert Entspannung\, Selbstvertrauen und Verbundenheit. Sie öffnet eine Brücke zum Unterbewusstsein und lädt ein\, auch die eigene innere Stimme zu entdecken und zu entfalten. \nTermine: Jeden Donnerstag von 16.15 bis 17.45 Uhr \nPreis: 40 Euro monatlich
URL:https://dasrosahaus.com/termin/singen/2026-01-29/
CATEGORIES:Kreativität
ORGANIZER;CN="Anna Zucker":MAILTO:info@gesangsschule-zucker.de
END:VEVENT
BEGIN:VEVENT
DTSTART;TZID=Europe/Paris:20260122T161500
DTEND;TZID=Europe/Paris:20260122T174500
DTSTAMP:20260419T161300
CREATED:20251223T140111Z
LAST-MODIFIED:20260111T175405Z
UID:30003084-1769098500-1769103900@dasrosahaus.com
SUMMARY:Singen
DESCRIPTION:Singen\nDie Stimme verbindet uns mit uns selbst und der Welt. Im Singen lösen sich Blockaden\, Glückshormone werden freigesetzt und innere Stärke entsteht. Die Stimmarbeit fördert Entspannung\, Selbstvertrauen und Verbundenheit. Sie öffnet eine Brücke zum Unterbewusstsein und lädt ein\, auch die eigene innere Stimme zu entdecken und zu entfalten. \nTermine: Jeden Donnerstag von 16.15 bis 17.45 Uhr \nPreis: 40 Euro monatlich
URL:https://dasrosahaus.com/termin/singen/2026-01-22/
CATEGORIES:Kreativität
ORGANIZER;CN="Anna Zucker":MAILTO:info@gesangsschule-zucker.de
END:VEVENT
BEGIN:VEVENT
DTSTART;TZID=Europe/Paris:20260115T161500
DTEND;TZID=Europe/Paris:20260115T174500
DTSTAMP:20260419T161301
CREATED:20251223T140111Z
LAST-MODIFIED:20260111T175405Z
UID:30003083-1768493700-1768499100@dasrosahaus.com
SUMMARY:Singen
DESCRIPTION:Singen\nDie Stimme verbindet uns mit uns selbst und der Welt. Im Singen lösen sich Blockaden\, Glückshormone werden freigesetzt und innere Stärke entsteht. Die Stimmarbeit fördert Entspannung\, Selbstvertrauen und Verbundenheit. Sie öffnet eine Brücke zum Unterbewusstsein und lädt ein\, auch die eigene innere Stimme zu entdecken und zu entfalten. \nTermine: Jeden Donnerstag von 16.15 bis 17.45 Uhr \nPreis: 40 Euro monatlich
URL:https://dasrosahaus.com/termin/singen/2026-01-15/
CATEGORIES:Kreativität
ORGANIZER;CN="Anna Zucker":MAILTO:info@gesangsschule-zucker.de
END:VEVENT
BEGIN:VEVENT
DTSTART;TZID=Europe/Paris:20260108T161500
DTEND;TZID=Europe/Paris:20260108T174500
DTSTAMP:20260419T161301
CREATED:20251223T140111Z
LAST-MODIFIED:20260111T175405Z
UID:30000567-1767888900-1767894300@dasrosahaus.com
SUMMARY:Singen
DESCRIPTION:Singen\nDie Stimme verbindet uns mit uns selbst und der Welt. Im Singen lösen sich Blockaden\, Glückshormone werden freigesetzt und innere Stärke entsteht. Die Stimmarbeit fördert Entspannung\, Selbstvertrauen und Verbundenheit. Sie öffnet eine Brücke zum Unterbewusstsein und lädt ein\, auch die eigene innere Stimme zu entdecken und zu entfalten. \nTermine: Jeden Donnerstag von 16.15 bis 17.45 Uhr \nPreis: 40 Euro monatlich
URL:https://dasrosahaus.com/termin/singen/2026-01-08/
CATEGORIES:Kreativität
ORGANIZER;CN="Anna Zucker":MAILTO:info@gesangsschule-zucker.de
END:VEVENT
END:VCALENDAR