BEGIN:VCALENDAR
VERSION:2.0
PRODID:-//Das Rosa Haus - ECPv6.15.20//NONSGML v1.0//EN
CALSCALE:GREGORIAN
METHOD:PUBLISH
X-WR-CALNAME:Das Rosa Haus
X-ORIGINAL-URL:https://dasrosahaus.com
X-WR-CALDESC:Veranstaltungen für Das Rosa Haus
REFRESH-INTERVAL;VALUE=DURATION:PT1H
X-Robots-Tag:noindex
X-PUBLISHED-TTL:PT1H
BEGIN:VTIMEZONE
TZID:Europe/Paris
BEGIN:DAYLIGHT
TZOFFSETFROM:+0100
TZOFFSETTO:+0200
TZNAME:CEST
DTSTART:20250330T010000
END:DAYLIGHT
BEGIN:STANDARD
TZOFFSETFROM:+0200
TZOFFSETTO:+0100
TZNAME:CET
DTSTART:20251026T010000
END:STANDARD
BEGIN:DAYLIGHT
TZOFFSETFROM:+0100
TZOFFSETTO:+0200
TZNAME:CEST
DTSTART:20260329T010000
END:DAYLIGHT
BEGIN:STANDARD
TZOFFSETFROM:+0200
TZOFFSETTO:+0100
TZNAME:CET
DTSTART:20261025T010000
END:STANDARD
BEGIN:DAYLIGHT
TZOFFSETFROM:+0100
TZOFFSETTO:+0200
TZNAME:CEST
DTSTART:20270328T010000
END:DAYLIGHT
BEGIN:STANDARD
TZOFFSETFROM:+0200
TZOFFSETTO:+0100
TZNAME:CET
DTSTART:20271031T010000
END:STANDARD
END:VTIMEZONE
BEGIN:VEVENT
DTSTART;TZID=Europe/Paris:20261011T100000
DTEND;TZID=Europe/Paris:20261011T180000
DTSTAMP:20260424T110407
CREATED:20251217T225243Z
LAST-MODIFIED:20251217T225243Z
UID:30000822-1791712800-1791741600@dasrosahaus.com
SUMMARY:Kreatives Schreiben
DESCRIPTION:Kreatives Schreiben\nKreatives Schreiben ermöglicht einen leichten Zugang zu inneren Prozessen und persönlichem Wachstum. Gemeinsam und in angenehmer Atmosphäre entstehen neue Texte\, Ideen und Wege des Selbstausdrucks. Mit Freude und Neugier laden die Schreibräume dazu ein\, bekannte Pfade zu verlassen und über Wörter und Geschichten in lebendigen Kontakt mit sich selbst und anderen zu treten. \nTermine: 7.3.2026 und 11.10.2026 von 10.00 bis 18.00 Uhr \nPreis: jeweils 150 Euro
URL:https://dasrosahaus.com/termin/kreatives-schreiben/2026-10-11/
CATEGORIES:Kreativität
ORGANIZER;CN="Petra Rechenberg-Winter":MAILTO:schreibraeume@rechenberg-winter.com
END:VEVENT
END:VCALENDAR