BEGIN:VCALENDAR
VERSION:2.0
PRODID:-//Das Rosa Haus - ECPv6.15.20//NONSGML v1.0//EN
CALSCALE:GREGORIAN
METHOD:PUBLISH
X-WR-CALNAME:Das Rosa Haus
X-ORIGINAL-URL:https://dasrosahaus.com
X-WR-CALDESC:Veranstaltungen für Das Rosa Haus
REFRESH-INTERVAL;VALUE=DURATION:PT1H
X-Robots-Tag:noindex
X-PUBLISHED-TTL:PT1H
BEGIN:VTIMEZONE
TZID:Europe/Paris
BEGIN:DAYLIGHT
TZOFFSETFROM:+0100
TZOFFSETTO:+0200
TZNAME:CEST
DTSTART:20250330T010000
END:DAYLIGHT
BEGIN:STANDARD
TZOFFSETFROM:+0200
TZOFFSETTO:+0100
TZNAME:CET
DTSTART:20251026T010000
END:STANDARD
BEGIN:DAYLIGHT
TZOFFSETFROM:+0100
TZOFFSETTO:+0200
TZNAME:CEST
DTSTART:20260329T010000
END:DAYLIGHT
BEGIN:STANDARD
TZOFFSETFROM:+0200
TZOFFSETTO:+0100
TZNAME:CET
DTSTART:20261025T010000
END:STANDARD
BEGIN:DAYLIGHT
TZOFFSETFROM:+0100
TZOFFSETTO:+0200
TZNAME:CEST
DTSTART:20270328T010000
END:DAYLIGHT
BEGIN:STANDARD
TZOFFSETFROM:+0200
TZOFFSETTO:+0100
TZNAME:CET
DTSTART:20271031T010000
END:STANDARD
END:VTIMEZONE
BEGIN:VEVENT
DTSTART;TZID=Europe/Paris:20260603T183000
DTEND;TZID=Europe/Paris:20260603T203000
DTSTAMP:20260424T161843
CREATED:20260424T091630Z
LAST-MODIFIED:20260424T120118Z
UID:26018649-1780511400-1780518600@dasrosahaus.com
SUMMARY:Spiel dich frei – Improvisation & Achtsamkeit
DESCRIPTION:Spiel dich frei – Improvisation & Achtsamkeit\nIn einem geschützten Rahmen verbindet dieser Workshop Achtsamkeit und Improvisation. Spielerische Übungen mit Stimme\, Bewegung und Kontakt öffnen neue Handlungsräume und stärken Selbstwahrnehmung\, Resilienz und Kreativität. Es geht nicht um „Theater spielen“\, sondern um Präsenz im Moment – mit Freude\, Leichtigkeit und der Erfahrung von Lebendigkeit. \nTermine \n\n03.06. bis 01.07.2026\, 18.30 bis 20.30 Uhr\n5 Termine (je 2 Stunden)\n\nTermine im Einzelnen: \n\nMittwoch\, 03. Juni 2026 von 18.30 bis 20.30 Uhr  \nMittwoch\, 10. Juni 2026 von 18.30 bis 20.30 Uhr \nMittwoch\, 17. Juni 2026 von 18.30 bis 20.30 Uhr  \nMittwoch\, 24. Juni 2026 von 18.30 bis 20.30 Uhr \nMittwoch\, 01. Juli 2026 von 18.30 bis 20.30 Uhr\n\nOrt: Präsenz (Rosa Haus) \nPreis: 95 Euro
URL:https://dasrosahaus.com/termin/improvisiertes-theater-achtsamkeit/
LOCATION:Das Rosa Haus
CATEGORIES:Kreativität
ORGANIZER;CN="Iris Bauck":MAILTO:mail@irisbauck.de
END:VEVENT
END:VCALENDAR